BEGIN:VCALENDAR
VERSION:2.0
PRODID:-//Familientreffpunkt Fischenthal - ECPv6.15.20//NONSGML v1.0//EN
CALSCALE:GREGORIAN
METHOD:PUBLISH
X-ORIGINAL-URL:https://familientreffpunktfischenthal.ch
X-WR-CALDESC:Veranstaltungen für Familientreffpunkt Fischenthal
REFRESH-INTERVAL;VALUE=DURATION:PT1H
X-Robots-Tag:noindex
X-PUBLISHED-TTL:PT1H
BEGIN:VTIMEZONE
TZID:UTC
BEGIN:STANDARD
TZOFFSETFROM:+0000
TZOFFSETTO:+0000
TZNAME:UTC
DTSTART:20210101T000000
END:STANDARD
END:VTIMEZONE
BEGIN:VEVENT
DTSTART;VALUE=DATE:20221112
DTEND;VALUE=DATE:20221121
DTSTAMP:20260426T014903
CREATED:20220321T123933Z
LAST-MODIFIED:20241023T081137Z
UID:4107-1668211200-1668988799@familientreffpunktfischenthal.ch
SUMMARY:Kerzenziehen
DESCRIPTION:Kerzenziehen 2022 \n  \nIm Schulhaus Schmittenbach in Fischenthal \n  \nÖffnungszeiten \n  \nSamstag           12. November               09.00- 16.00 Uhr \n  \nSonntag           13. November               10.00- 16.00 Uhr \n  \nMontag            14. November               14.00- 18.00 Uhr \n  \nDienstag          15. November               14.00- 18.00 Uhr \n  \nMittwoch         16. November               14.00- 18.00 Uhr \n  \nDonnerstag     17. November               14.00- 18.00 Uhr \n  \nFreitag             18. November               14.00- 22.00 Uhr \n  \nSamstag           19. November               09.00- 16.00 Uhr \n  \nSonntag           20. November               10.00- 16.00 Uhr \n  \n  \n  \nFackeln:                           Sonntag 12. Nov    10.00- 16.00 Uhr \nSonntag 20. Nov    10.00- 16.00 Uhr \nWachshände:                  Samstag 19. Nov    09.00- 11.00 Uhr \n  \nBistro:                              offen während dem Kerzenziehen \n  \nSchutzkonzept:              aktuell ist keines nötig\, bei Änderungen informieren wir! \n  \nWir freuen uns auf euch!! \n  \nEuer „Kerzenzieh-Team“
URL:https://familientreffpunktfischenthal.ch/event/kerzenziehen-2/
ATTACH;FMTTYPE=image/jpeg:https://familientreffpunktfischenthal.ch/wp-content/uploads/2024/10/IMG-20241021-WA0007.jpg
END:VEVENT
END:VCALENDAR