BEGIN:VCALENDAR
VERSION:2.0
PRODID:-//Familientreffpunkt Fischenthal - ECPv6.15.20//NONSGML v1.0//EN
CALSCALE:GREGORIAN
METHOD:PUBLISH
X-ORIGINAL-URL:https://familientreffpunktfischenthal.ch
X-WR-CALDESC:Veranstaltungen für Familientreffpunkt Fischenthal
REFRESH-INTERVAL;VALUE=DURATION:PT1H
X-Robots-Tag:noindex
X-PUBLISHED-TTL:PT1H
BEGIN:VTIMEZONE
TZID:Europe/Paris
BEGIN:DAYLIGHT
TZOFFSETFROM:+0100
TZOFFSETTO:+0200
TZNAME:CEST
DTSTART:20250330T010000
END:DAYLIGHT
BEGIN:STANDARD
TZOFFSETFROM:+0200
TZOFFSETTO:+0100
TZNAME:CET
DTSTART:20251026T010000
END:STANDARD
BEGIN:DAYLIGHT
TZOFFSETFROM:+0100
TZOFFSETTO:+0200
TZNAME:CEST
DTSTART:20260329T010000
END:DAYLIGHT
BEGIN:STANDARD
TZOFFSETFROM:+0200
TZOFFSETTO:+0100
TZNAME:CET
DTSTART:20261025T010000
END:STANDARD
BEGIN:DAYLIGHT
TZOFFSETFROM:+0100
TZOFFSETTO:+0200
TZNAME:CEST
DTSTART:20270328T010000
END:DAYLIGHT
BEGIN:STANDARD
TZOFFSETFROM:+0200
TZOFFSETTO:+0100
TZNAME:CET
DTSTART:20271031T010000
END:STANDARD
END:VTIMEZONE
BEGIN:VEVENT
DTSTART;TZID=Europe/Paris:20260506T140000
DTEND;TZID=Europe/Paris:20260506T170000
DTSTAMP:20260424T232531
CREATED:20260319T092418Z
LAST-MODIFIED:20260319T092435Z
UID:5280-1778076000-1778086800@familientreffpunktfischenthal.ch
SUMMARY:Muttertagsgeschenk basteln
DESCRIPTION:Wir basteln Muttertagsgeschenke im Spielkaffi
URL:https://familientreffpunktfischenthal.ch/event/muttertagsgeschenk-basteln/
LOCATION:Spielkafi Fischenthal\, Alte Fistelstrasse\, Fischenthal\, 8497\, Schweiz
END:VEVENT
END:VCALENDAR