BEGIN:VCALENDAR
VERSION:2.0
PRODID:-//Familientreffpunkt Fischenthal - ECPv6.15.20//NONSGML v1.0//EN
CALSCALE:GREGORIAN
METHOD:PUBLISH
X-ORIGINAL-URL:https://familientreffpunktfischenthal.ch
X-WR-CALDESC:Veranstaltungen für Familientreffpunkt Fischenthal
REFRESH-INTERVAL;VALUE=DURATION:PT1H
X-Robots-Tag:noindex
X-PUBLISHED-TTL:PT1H
BEGIN:VTIMEZONE
TZID:Europe/Paris
BEGIN:DAYLIGHT
TZOFFSETFROM:+0100
TZOFFSETTO:+0200
TZNAME:CEST
DTSTART:20220327T010000
END:DAYLIGHT
BEGIN:STANDARD
TZOFFSETFROM:+0200
TZOFFSETTO:+0100
TZNAME:CET
DTSTART:20221030T010000
END:STANDARD
BEGIN:DAYLIGHT
TZOFFSETFROM:+0100
TZOFFSETTO:+0200
TZNAME:CEST
DTSTART:20230326T010000
END:DAYLIGHT
BEGIN:STANDARD
TZOFFSETFROM:+0200
TZOFFSETTO:+0100
TZNAME:CET
DTSTART:20231029T010000
END:STANDARD
BEGIN:DAYLIGHT
TZOFFSETFROM:+0100
TZOFFSETTO:+0200
TZNAME:CEST
DTSTART:20240331T010000
END:DAYLIGHT
BEGIN:STANDARD
TZOFFSETFROM:+0200
TZOFFSETTO:+0100
TZNAME:CET
DTSTART:20241027T010000
END:STANDARD
BEGIN:DAYLIGHT
TZOFFSETFROM:+0100
TZOFFSETTO:+0200
TZNAME:CEST
DTSTART:20250330T010000
END:DAYLIGHT
BEGIN:STANDARD
TZOFFSETFROM:+0200
TZOFFSETTO:+0100
TZNAME:CET
DTSTART:20251026T010000
END:STANDARD
BEGIN:DAYLIGHT
TZOFFSETFROM:+0100
TZOFFSETTO:+0200
TZNAME:CEST
DTSTART:20260329T010000
END:DAYLIGHT
BEGIN:STANDARD
TZOFFSETFROM:+0200
TZOFFSETTO:+0100
TZNAME:CET
DTSTART:20261025T010000
END:STANDARD
BEGIN:DAYLIGHT
TZOFFSETFROM:+0100
TZOFFSETTO:+0200
TZNAME:CEST
DTSTART:20270328T010000
END:DAYLIGHT
BEGIN:STANDARD
TZOFFSETFROM:+0200
TZOFFSETTO:+0100
TZNAME:CET
DTSTART:20271031T010000
END:STANDARD
END:VTIMEZONE
BEGIN:VTIMEZONE
TZID:UTC
BEGIN:STANDARD
TZOFFSETFROM:+0000
TZOFFSETTO:+0000
TZNAME:UTC
DTSTART:20220101T000000
END:STANDARD
END:VTIMEZONE
BEGIN:VEVENT
DTSTART;TZID=Europe/Paris:20260402T133000
DTEND;TZID=Europe/Paris:20260402T170000
DTSTAMP:20260424T204202
CREATED:20260107T120521Z
LAST-MODIFIED:20260319T130251Z
UID:5220-1775136600-1775149200@familientreffpunktfischenthal.ch
SUMMARY:Osterbasteln im Spielkaffi
DESCRIPTION:
URL:https://familientreffpunktfischenthal.ch/event/osterbasteln-im-spielkaffi/
ATTACH;FMTTYPE=image/png:https://familientreffpunktfischenthal.ch/wp-content/uploads/2026/03/Rot-Gruen-Blau-Gelb-Illustrativ-Ostern-Einladung-Aquarell-Ostereier-1.png
END:VEVENT
BEGIN:VEVENT
DTSTART;TZID=Europe/Paris:20260327T190000
DTEND;TZID=Europe/Paris:20260327T220000
DTSTAMP:20260424T204202
CREATED:20260107T120438Z
LAST-MODIFIED:20260107T120438Z
UID:5218-1774638000-1774648800@familientreffpunktfischenthal.ch
SUMMARY:Generalversammlung
DESCRIPTION:
URL:https://familientreffpunktfischenthal.ch/event/generalversammlung/
END:VEVENT
BEGIN:VEVENT
DTSTART;TZID=Europe/Paris:20260131T141400
DTEND;TZID=Europe/Paris:20260131T180000
DTSTAMP:20260424T204202
CREATED:20251027T142007Z
LAST-MODIFIED:20260107T120251Z
UID:5200-1769868840-1769882400@familientreffpunktfischenthal.ch
SUMMARY:Kinderumzug Fischenthal
DESCRIPTION:
URL:https://familientreffpunktfischenthal.ch/event/kinderumzug-fischenthal/
END:VEVENT
BEGIN:VEVENT
DTSTART;TZID=Europe/Paris:20251220T133000
DTEND;TZID=Europe/Paris:20251220T170000
DTSTAMP:20260424T204202
CREATED:20250715T081653Z
LAST-MODIFIED:20250715T081653Z
UID:5140-1766237400-1766250000@familientreffpunktfischenthal.ch
SUMMARY:Adventsanlass
DESCRIPTION:
URL:https://familientreffpunktfischenthal.ch/event/adventsanlass/
LOCATION:Spielkafi Fischenthal\, Alte Fistelstrasse\, Fischenthal\, 8497\, Schweiz
END:VEVENT
BEGIN:VEVENT
DTSTART;TZID=Europe/Paris:20251203T140000
DTEND;TZID=Europe/Paris:20251203T170000
DTSTAMP:20260424T204202
CREATED:20250715T081223Z
LAST-MODIFIED:20251112T124939Z
UID:5137-1764770400-1764781200@familientreffpunktfischenthal.ch
SUMMARY:Lebkuchenhäuser dekorieren
DESCRIPTION:Nur mit Vor-Anmeldung bis zum 23 November möglich.\n079 703 90 59 \nVon 14-17 Uhr im Spielkaafi\nFr. 8 mit Erw.Begleitung\nFr.10 ohne Erw.Begleitung
URL:https://familientreffpunktfischenthal.ch/event/lebkuchenhaeuser-dekorieren/
LOCATION:Spielkafi Fischenthal\, Alte Fistelstrasse\, Fischenthal\, 8497\, Schweiz
END:VEVENT
BEGIN:VEVENT
DTSTART;TZID=Europe/Paris:20251201T080000
DTEND;TZID=Europe/Paris:20251224T170000
DTSTAMP:20260424T204202
CREATED:20250320T071054Z
LAST-MODIFIED:20250320T071054Z
UID:5104-1764576000-1766595600@familientreffpunktfischenthal.ch
SUMMARY:Adventsfenster Fischenthal
DESCRIPTION:
URL:https://familientreffpunktfischenthal.ch/event/adventsfenster-fischenthal/
LOCATION:Fischenthal
END:VEVENT
BEGIN:VEVENT
DTSTART;VALUE=DATE:20251115
DTEND;VALUE=DATE:20251124
DTSTAMP:20260424T204202
CREATED:20250320T070845Z
LAST-MODIFIED:20250320T074524Z
UID:5099-1763164800-1763942399@familientreffpunktfischenthal.ch
SUMMARY:Kerzenziehen
DESCRIPTION:
URL:https://familientreffpunktfischenthal.ch/event/kerzenziehen-4/
LOCATION:Schulhaus Fischenthal Schmittenbach
END:VEVENT
BEGIN:VEVENT
DTSTART;TZID=Europe/Paris:20251108T130000
DTEND;TZID=Europe/Paris:20251108T170000
DTSTAMP:20260424T204202
CREATED:20250320T070946Z
LAST-MODIFIED:20251019T172657Z
UID:5102-1762606800-1762621200@familientreffpunktfischenthal.ch
SUMMARY:Creabasteltag
DESCRIPTION:
URL:https://familientreffpunktfischenthal.ch/event/creabasteltag/
LOCATION:Schulhaus Burghalden Fischenthal
END:VEVENT
BEGIN:VEVENT
DTSTART;TZID=Europe/Paris:20251105T160000
DTEND;TZID=Europe/Paris:20251105T180000
DTSTAMP:20260424T204202
CREATED:20250320T070721Z
LAST-MODIFIED:20250320T070721Z
UID:5097-1762358400-1762365600@familientreffpunktfischenthal.ch
SUMMARY:Räbeliechtliumzug Fischenthal
DESCRIPTION:
URL:https://familientreffpunktfischenthal.ch/event/raebeliechtliumzug-fischenthal/
LOCATION:Fischenthal
END:VEVENT
BEGIN:VEVENT
DTSTART;TZID=Europe/Paris:20251104T140000
DTEND;TZID=Europe/Paris:20251104T170000
DTSTAMP:20260424T204202
CREATED:20250715T081127Z
LAST-MODIFIED:20250715T081816Z
UID:5135-1762264800-1762275600@familientreffpunktfischenthal.ch
SUMMARY:Räben schnitzen
DESCRIPTION:*Änderungen vorbehalten
URL:https://familientreffpunktfischenthal.ch/event/raeben-schnitzen/
LOCATION:Spielkafi Fischenthal\, Alte Fistelstrasse\, Fischenthal\, 8497\, Schweiz
END:VEVENT
BEGIN:VEVENT
DTSTART;TZID=Europe/Paris:20251031T160000
DTEND;TZID=Europe/Paris:20251031T190000
DTSTAMP:20260424T204202
CREATED:20250320T070606Z
LAST-MODIFIED:20251023T095845Z
UID:5095-1761926400-1761937200@familientreffpunktfischenthal.ch
SUMMARY:Halloweenparty
DESCRIPTION:
URL:https://familientreffpunktfischenthal.ch/event/halloweenparty/
LOCATION:Spielkafi Fischenthal\, Alte Fistelstrasse\, Fischenthal\, 8497\, Schweiz
END:VEVENT
BEGIN:VEVENT
DTSTART;TZID=Europe/Paris:20251001T140000
DTEND;TZID=Europe/Paris:20251001T170000
DTSTAMP:20260424T204202
CREATED:20250715T081032Z
LAST-MODIFIED:20250715T081835Z
UID:5133-1759327200-1759338000@familientreffpunktfischenthal.ch
SUMMARY:Marroni über dem Feuer
DESCRIPTION:*Änderungen vorbehalten
URL:https://familientreffpunktfischenthal.ch/event/marroni-ueber-dem-feuer/
LOCATION:Spielkafi Fischenthal\, Alte Fistelstrasse\, Fischenthal\, 8497\, Schweiz
END:VEVENT
BEGIN:VEVENT
DTSTART;TZID=Europe/Paris:20250928T110000
DTEND;TZID=Europe/Paris:20250928T170000
DTSTAMP:20260424T204202
CREATED:20250320T070511Z
LAST-MODIFIED:20250715T082239Z
UID:5093-1759057200-1759078800@familientreffpunktfischenthal.ch
SUMMARY:Familienfest Fischenthal
DESCRIPTION:
URL:https://familientreffpunktfischenthal.ch/event/familienfest-fischenthal/
LOCATION:Spielkafi Fischenthal\, Alte Fistelstrasse\, Fischenthal\, 8497\, Schweiz
ATTACH;FMTTYPE=image/jpeg:https://familientreffpunktfischenthal.ch/wp-content/uploads/2025/07/1000243758.jpg
END:VEVENT
BEGIN:VEVENT
DTSTART;TZID=Europe/Paris:20250903T140000
DTEND;TZID=Europe/Paris:20250903T170000
DTSTAMP:20260424T204202
CREATED:20250715T080858Z
LAST-MODIFIED:20250715T082328Z
UID:5131-1756908000-1756918800@familientreffpunktfischenthal.ch
SUMMARY:Flohmärt
DESCRIPTION:*Änderungen vorbehalten
URL:https://familientreffpunktfischenthal.ch/event/flohmaert/
LOCATION:Spielkafi Fischenthal\, Alte Fistelstrasse\, Fischenthal\, 8497\, Schweiz
END:VEVENT
BEGIN:VEVENT
DTSTART;VALUE=DATE:20250503
DTEND;VALUE=DATE:20250504
DTSTAMP:20260424T204202
CREATED:20250320T070423Z
LAST-MODIFIED:20250320T070423Z
UID:5090-1746230400-1746316799@familientreffpunktfischenthal.ch
SUMMARY:Frühlingsmarkt
DESCRIPTION:
URL:https://familientreffpunktfischenthal.ch/event/fruehlingsmarkt/
LOCATION:Frühlingsmarkt Fischenthal
END:VEVENT
BEGIN:VEVENT
DTSTART;TZID=Europe/Paris:20250422T080000
DTEND;TZID=Europe/Paris:20250502T170000
DTSTAMP:20260424T204202
CREATED:20250226T141832Z
LAST-MODIFIED:20250325T130021Z
UID:5000-1745308800-1746205200@familientreffpunktfischenthal.ch
SUMMARY:Ferienplausch 2025
DESCRIPTION:
URL:https://familientreffpunktfischenthal.ch/event/ferienplausch-2025/
LOCATION:Fischenthal
ATTACH;FMTTYPE=image/png:https://familientreffpunktfischenthal.ch/wp-content/uploads/2025/03/Gold-Blau-Rosa-Aquarell-Blumen-Gemalt-Cafe-Gutschein_20250311_202522_0000.png
END:VEVENT
BEGIN:VEVENT
DTSTART;TZID=Europe/Paris:20250417T140000
DTEND;TZID=Europe/Paris:20250417T170000
DTSTAMP:20260424T204202
CREATED:20250320T061207Z
LAST-MODIFIED:20250325T125934Z
UID:5088-1744898400-1744909200@familientreffpunktfischenthal.ch
SUMMARY:Osterwerkstatt
DESCRIPTION:
URL:https://familientreffpunktfischenthal.ch/event/osterwerkstatt-2/
LOCATION:Spielkafi Fischenthal\, Alte Fistelstrasse\, Fischenthal\, 8497\, Schweiz
END:VEVENT
BEGIN:VEVENT
DTSTART;TZID=Europe/Paris:20250201T140000
DTEND;TZID=Europe/Paris:20250201T200000
DTSTAMP:20260424T204202
CREATED:20221104T123546Z
LAST-MODIFIED:20240628T125429Z
UID:4325-1738418400-1738440000@familientreffpunktfischenthal.ch
SUMMARY:Kindermaskenball
DESCRIPTION:
URL:https://familientreffpunktfischenthal.ch/event/kindermaskenball/
END:VEVENT
BEGIN:VEVENT
DTSTART;TZID=Europe/Paris:20250125T080000
DTEND;TZID=Europe/Paris:20250126T170000
DTSTAMP:20260424T204202
CREATED:20240830T062955Z
LAST-MODIFIED:20240830T062955Z
UID:4802-1737792000-1737910800@familientreffpunktfischenthal.ch
SUMMARY:Kindertheater im Spielkafi
DESCRIPTION:Das Kindertheater wird 25. und 26. Januar im Spielkafi stattfinden. Die Tickets sind dann über die Webseite erhältlich.
URL:https://familientreffpunktfischenthal.ch/event/kindertheater-im-spielkafi/
ATTACH;FMTTYPE=image/jpeg:https://familientreffpunktfischenthal.ch/wp-content/uploads/2023/12/20231202_160757.jpg
END:VEVENT
BEGIN:VEVENT
DTSTART;TZID=Europe/Paris:20241214T150000
DTEND;TZID=Europe/Paris:20241214T170000
DTSTAMP:20260424T204202
CREATED:20240821T144429Z
LAST-MODIFIED:20241206T154811Z
UID:4793-1734188400-1734195600@familientreffpunktfischenthal.ch
SUMMARY:Adventsfenster Spielkafi mit Adventsanlass
DESCRIPTION:
URL:https://familientreffpunktfischenthal.ch/event/adventsfenster-spielkafi-mit-adventsanlass/
LOCATION:Spielkafi Fischenthal\, Alte Fistelstrasse\, Fischenthal\, 8497\, Schweiz
ATTACH;FMTTYPE=image/jpeg:https://familientreffpunktfischenthal.ch/wp-content/uploads/2024/08/adventsfenster.jpg
END:VEVENT
BEGIN:VEVENT
DTSTART;TZID=Europe/Paris:20241211T140000
DTEND;TZID=Europe/Paris:20241211T170000
DTSTAMP:20260424T204202
CREATED:20241120T135105Z
LAST-MODIFIED:20241120T142654Z
UID:4927-1733925600-1733936400@familientreffpunktfischenthal.ch
SUMMARY:Lebkuchenhaus verzieren
DESCRIPTION:Anmeldung bitte direkt bei Nathi unter 079 703 90 59
URL:https://familientreffpunktfischenthal.ch/event/lebkuchenhaus-verzieren/
END:VEVENT
BEGIN:VEVENT
DTSTART;VALUE=DATE:20241115
DTEND;VALUE=DATE:20241124
DTSTAMP:20260424T204202
CREATED:20230329T065027Z
LAST-MODIFIED:20251019T172746Z
UID:4486-1731628800-1732406399@familientreffpunktfischenthal.ch
SUMMARY:Kerzenziehen
DESCRIPTION:
URL:https://familientreffpunktfischenthal.ch/event/kerzenziehen-3/
END:VEVENT
BEGIN:VEVENT
DTSTART;VALUE=DATE:20241109
DTEND;VALUE=DATE:20241110
DTSTAMP:20260424T204202
CREATED:20230329T065143Z
LAST-MODIFIED:20241023T191432Z
UID:4488-1731110400-1731196799@familientreffpunktfischenthal.ch
SUMMARY:Crea-Basteltag
DESCRIPTION:Hier geht es zum Anmeldeformular: Anmeldung Crea Basteltag
URL:https://familientreffpunktfischenthal.ch/event/crea-basteltag-2/
ATTACH;FMTTYPE=image/jpeg:https://familientreffpunktfischenthal.ch/wp-content/uploads/2024/10/IMG-20241020-WA0021.jpg
END:VEVENT
BEGIN:VEVENT
DTSTART;TZID=Europe/Paris:20241106T180000
DTEND;TZID=Europe/Paris:20241106T200000
DTSTAMP:20260424T204202
CREATED:20230329T064824Z
LAST-MODIFIED:20240628T124603Z
UID:4484-1730916000-1730923200@familientreffpunktfischenthal.ch
SUMMARY:Räbeliechtli-Umzug
DESCRIPTION:
URL:https://familientreffpunktfischenthal.ch/event/raebeliechtli-umzug/
ATTACH;FMTTYPE=image/jpeg:https://familientreffpunktfischenthal.ch/wp-content/uploads/2020/04/Raebeliechtliumzug5.jpeg
END:VEVENT
BEGIN:VEVENT
DTSTART;TZID=Europe/Paris:20241031T170000
DTEND;TZID=Europe/Paris:20241031T200000
DTSTAMP:20260424T204202
CREATED:20240821T144136Z
LAST-MODIFIED:20241023T192104Z
UID:4790-1730394000-1730404800@familientreffpunktfischenthal.ch
SUMMARY:Halloween Party
DESCRIPTION:
URL:https://familientreffpunktfischenthal.ch/event/halloween-party/
LOCATION:Spielkafi Fischenthal\, Alte Fistelstrasse\, Fischenthal\, 8497\, Schweiz
ATTACH;FMTTYPE=image/jpeg:https://familientreffpunktfischenthal.ch/wp-content/uploads/2024/10/e44c569a668540c7b2e35fc7506830c6.jpg
END:VEVENT
BEGIN:VEVENT
DTSTART;VALUE=DATE:20240922
DTEND;VALUE=DATE:20240923
DTSTAMP:20260424T204202
CREATED:20240628T125707Z
LAST-MODIFIED:20240628T125707Z
UID:4787-1726963200-1727049599@familientreffpunktfischenthal.ch
SUMMARY:Familienfest 2024
DESCRIPTION:
URL:https://familientreffpunktfischenthal.ch/event/familienfest-2024/
ATTACH;FMTTYPE=image/jpeg:https://familientreffpunktfischenthal.ch/wp-content/uploads/2022/12/Familiefaescht-059.jpg
END:VEVENT
BEGIN:VEVENT
DTSTART;TZID=Europe/Paris:20240127T140000
DTEND;TZID=Europe/Paris:20240127T200000
DTSTAMP:20260424T204202
CREATED:20230329T065828Z
LAST-MODIFIED:20240119T073932Z
UID:4490-1706364000-1706385600@familientreffpunktfischenthal.ch
SUMMARY:Kindermaskenball
DESCRIPTION:
URL:https://familientreffpunktfischenthal.ch/event/kindermaskenball-2/
END:VEVENT
BEGIN:VEVENT
DTSTART;TZID=Europe/Paris:20230422T110000
DTEND;TZID=Europe/Paris:20230422T220000
DTSTAMP:20260424T204202
CREATED:20230328T192139Z
LAST-MODIFIED:20230328T193845Z
UID:4470-1682161200-1682200800@familientreffpunktfischenthal.ch
SUMMARY:Frühlingsmarkt Fischenthal
DESCRIPTION:Auch dieses Jahr sind wir beim Frühlingsmarkt mit diversen Aktivitäten wie Päckli-fischen und dem Glücksrad dabei. Ihr findet uns beim Familientreff.
URL:https://familientreffpunktfischenthal.ch/event/fruehlingsmarkt-fischenthal/
LOCATION:Spielkafi Fischenthal\, Alte Fistelstrasse\, Fischenthal\, 8497\, Schweiz
END:VEVENT
BEGIN:VEVENT
DTSTART;TZID=Europe/Paris:20230422T080000
DTEND;TZID=Europe/Paris:20230507T170000
DTSTAMP:20260424T204202
CREATED:20230329T064340Z
LAST-MODIFIED:20230329T064340Z
UID:4480-1682150400-1683478800@familientreffpunktfischenthal.ch
SUMMARY:Ferienplausch
DESCRIPTION:Diverse Aktivitäten\, welche Kinder von Fischenthal im Kindergartenalte buchen können. Der Ferienplausch findet an verschiedenen Tagen in den Frühlingsferien statt und wird hier auf der Webseite aufgeschaltet.
URL:https://familientreffpunktfischenthal.ch/event/ferienplausch-2/
END:VEVENT
BEGIN:VEVENT
DTSTART;TZID=UTC:20230324T180000
DTEND;TZID=UTC:20230324T220000
DTSTAMP:20260424T204202
CREATED:20220321T124215Z
LAST-MODIFIED:20230329T064138Z
UID:4112-1679680800-1679695200@familientreffpunktfischenthal.ch
SUMMARY:GV Familientreff
DESCRIPTION:
URL:https://familientreffpunktfischenthal.ch/event/gv-familientreff/
END:VEVENT
END:VCALENDAR