BEGIN:VCALENDAR
VERSION:2.0
PRODID:-//Familientreffpunkt Fischenthal - ECPv6.15.20//NONSGML v1.0//EN
CALSCALE:GREGORIAN
METHOD:PUBLISH
X-WR-CALNAME:Familientreffpunkt Fischenthal
X-ORIGINAL-URL:https://familientreffpunktfischenthal.ch
X-WR-CALDESC:Veranstaltungen für Familientreffpunkt Fischenthal
REFRESH-INTERVAL;VALUE=DURATION:PT1H
X-Robots-Tag:noindex
X-PUBLISHED-TTL:PT1H
BEGIN:VTIMEZONE
TZID:UTC
BEGIN:STANDARD
TZOFFSETFROM:+0000
TZOFFSETTO:+0000
TZNAME:UTC
DTSTART:20210101T000000
END:STANDARD
END:VTIMEZONE
BEGIN:VEVENT
DTSTART;TZID=UTC:20220608T140000
DTEND;TZID=UTC:20220608T170000
DTSTAMP:20260426T063357
CREATED:20220321T123402Z
LAST-MODIFIED:20220321T123402Z
UID:4098-1654696800-1654707600@familientreffpunktfischenthal.ch
SUMMARY:Flohmarkt
DESCRIPTION:
URL:https://familientreffpunktfischenthal.ch/event/flohmarkt/
END:VEVENT
END:VCALENDAR